BEGIN:VCALENDAR
VERSION:2.0
PRODID:-//wp-events-plugin.com//7.2.3.1//EN
TZID:Europe/Madrid
X-WR-TIMEZONE:Europe/Madrid
BEGIN:VEVENT
UID:135@amelonera.org
DTSTART;TZID=Europe/Madrid:20240203T110000
DTEND;TZID=Europe/Madrid:20240203T130000
DTSTAMP:20240122T185046Z
URL:https://amelonera.org/ara/events/charla-propuestas-politicas-para-una-
 maternidad-digna/
SUMMARY:Charla: Propuestas políticas para una maternidad digna
DESCRIPTION:PETRA ARAGÓN ¿Eres madre feminista? Si crees que maternar no 
 está valorado y piensas que las madres y bebés deberíamos tener más de
 rechos durante la infancia temprana\, te van a gustar las propuestas de PE
 TRA Maternidades Feministas. Ven a conocernos el sábado 3 de febrero a la
 s 11.00h en CSA A Melonera de Sabiñánigo
ATTACH;FMTTYPE=image/jpeg:https://amelonera.org/wp-content/uploads/2024/01
 /Cartel-maternidades-feministas.jpg
CATEGORIES:Charla
LOCATION:CSA A Melonera\, Plaza Santa Ana\, 10\, Sabiñánigo\, Huesca\, إ
 سبانيا
X-APPLE-STRUCTURED-LOCATION;VALUE=URI;X-ADDRESS=Plaza Santa Ana\, 10\, Sabi
 ñánigo\, Huesca\, إسبانيا;X-APPLE-RADIUS=100;X-TITLE=CSA A Melone
 ra:geo:0,0
END:VEVENT
BEGIN:VTIMEZONE
TZID:Europe/Madrid
X-LIC-LOCATION:Europe/Madrid
BEGIN:STANDARD
DTSTART:20231029T020000
TZOFFSETFROM:+0200
TZOFFSETTO:+0100
TZNAME:CET
END:STANDARD
END:VTIMEZONE
END:VCALENDAR