BEGIN:VCALENDAR
VERSION:2.0
PRODID:-//wp-events-plugin.com//7.2.3.1//EN
TZID:Europe/Madrid
X-WR-TIMEZONE:Europe/Madrid
BEGIN:VEVENT
UID:192@amelonera.org
DTSTART;TZID=Europe/Madrid:20240302T103000
DTEND;TZID=Europe/Madrid:20240302T200000
DTSTAMP:20240224T090732Z
URL:https://amelonera.org/ara/events/jornadas-implicate-2/
SUMMARY:Jornadas Implícate
DESCRIPTION:Querides Melones 🍈\n¿Estáis preparadas para lo que viene?\
 n\nSe está cocinando una jornada de celebración y encuentro para todas l
 as personas y colectivos que formamos parte de A Melonera.\n\nLa idea es p
 asar el día juntis\, conocernos un poco más\, celebrar lo conseguido has
 ta ahora\, resolver dudas y recoger sugerencias e ideas de cómo podemos c
 ontinuar este proceso tan genial.\n\nVamos a ser claras\, necesitamos más
  manos\, energía y disposición\, y nuestra intención es que aquellas qu
 e os animéis\, pues os hagáis vuestro el proyecto también. Digamos que 
 sería el equivalente a una asamblea general\, pero en formato regenerativ
 o :) Entre todas\, hemos conseguido mucho en poco tiempo y es importante h
 onrar todos esos logros y celebrarlos. Por eso\, estamos preparando varias
  sorpresitas festivas para este día tan especial. 🎉❤️\n\n📅¡Res
 ervad el 2 de marzo\, que nos vemos en A Melonera!\n\nEste proyecto lo con
 struímos entre todes! 🔥✨\n\n[Ara]\n\nSoz prestas ta lo que va a esde
 venir?\nSe ye guisoniando una chornada de cilebración y trobada ta totas 
 las personas y colectivos que femos parte d’A Melonera.\n\nLa ideya ye p
 asar lo día chuntos\, conoixer-nos una miqueta mes\, cilebrar l’aconseg
 iu dica agora\, resolver dudas y replegar socherencias y ideyas de cómo p
 odemos continar iste proceso tan chenial. Imos a estar claras: nos fan fal
 ta mes mans\, enerchía y disposición\, y la nuestra intención ye que\, 
 aquellas que tos i animez\, faigaz vuestro tamién lo prochecto.\n\nDigamo
 s que sería l’equivalent a una asembleya cheneral\, pero en formato rec
 henerativo :)\n\nEntre totas hemos aconseguiu muito en no guaire tiempo y 
 ye important honrar toz istos logros y cilebrar-los.\n\nPer ixo\, somos pa
 rando bellas sospresetas festeras ta iste día tan especial.\n\nReservaz l
 o 2 de marzo\, que nos veyemos en A Melonera!
ATTACH;FMTTYPE=image/jpeg:https://amelonera.org/wp-content/uploads/2024/02
 /photo_2024-02-24_10-06-54.jpg
CATEGORIES:Encuentro
END:VEVENT
BEGIN:VTIMEZONE
TZID:Europe/Madrid
X-LIC-LOCATION:Europe/Madrid
BEGIN:STANDARD
DTSTART:20231029T020000
TZOFFSETFROM:+0200
TZOFFSETTO:+0100
TZNAME:CET
END:STANDARD
END:VTIMEZONE
END:VCALENDAR