BEGIN:VCALENDAR
VERSION:2.0
PRODID:-//wp-events-plugin.com//7.2.3.1//EN
TZID:Europe/Madrid
X-WR-TIMEZONE:Europe/Madrid
BEGIN:VEVENT
UID:332@amelonera.org
DTSTART;TZID=Europe/Madrid:20260327T190000
DTEND;TZID=Europe/Madrid:20260327T210000
DTSTAMP:20260305T162901Z
URL:https://amelonera.org/ara/events/presentacion-liza-plataforma-anarquis
 ta/
SUMMARY:Presentación Liza\, plataforma anarquista
DESCRIPTION:♟¿Qué propone el plataformismo?\n\n🗓 El próximo viernes
  27 de marzo a las 19h en A Melonera las compañeras de Liza\, Plataforma 
 Anarquista nos contarán que les ha llevado a dar este paso.\n\n📍 Con n
 úcleos en Granada y Madrid y organizadas junto a otras plataformas en Gal
 iza\, Catalunya o Alacant\, Liza busca dar un paso en el movimiento libert
 ario.\n\n❓¿Qué buscan cambiar o qué muros han encontrado en la polít
 ica para dar este paso? ¿Qué diferencia al especifismo del plataformismo
 ? ¿Qué es la militancia dual? ¿Cómo se lleva a la práctica la ética 
 militante? ¿Qué es la unidad política y de acción? ¿Qué diferencias 
 tienen con otras corrientes del anarquismo? ¿Cuál es su propuesta?\n\n
 🏴  Frente a la desesperanza\, organización de clase\, anarquista y re
 volucionaria.\n\n\n\n&nbsp\;\n\n♟Qué proposa lo plataformismo?\n\n🗓 
 Lo venient viernes 27 de marzo a las 19h en A Melonera\, las companyeras d
 e Liza\, Plataforma Anarquista\, nos recontarán qué les ha empentau a fe
 r iste trango.\n\n📍 Con nuclios en Granada y Madrid y organizadas chunt
 o a belatras plataformas en Galiza\, Catalunya u Alacant\, Liza mira de fe
 r un trango en o movimiento libertario.\n\n❓Qué miran de cambiar u qué
  barraches han trobau en a política ta fer iste trango? Qué diferencia l
 'especifismo d'o plataformismo? Qué ye a militancia dual? Cómo se leva t
 a la practica la etica militant? Qué ye a unidat politica y d'aición? Qu
 é diferencias han con belatras corrients de l'anarquismo? Cuála ye la su
 ya propuesta?\n\n🏴  Frent a la desasperanza\, organización de clase\,
  anarquista y revolucionaria.
ATTACH;FMTTYPE=image/jpeg:https://amelonera.org/wp-content/uploads/2026/03
 /photo_2026-03-05_17-26-24.jpg
CATEGORIES:Actividad puntual,Charla
LOCATION:CSA A Melonera\, Plaza Santa Ana\, 10\, Sabiñánigo\, Huesca\, إ
 سبانيا
X-APPLE-STRUCTURED-LOCATION;VALUE=URI;X-ADDRESS=Plaza Santa Ana\, 10\, Sabi
 ñánigo\, Huesca\, إسبانيا;X-APPLE-RADIUS=100;X-TITLE=CSA A Melone
 ra:geo:0,0
END:VEVENT
BEGIN:VTIMEZONE
TZID:Europe/Madrid
X-LIC-LOCATION:Europe/Madrid
BEGIN:STANDARD
DTSTART:20251026T020000
TZOFFSETFROM:+0200
TZOFFSETTO:+0100
TZNAME:CET
END:STANDARD
END:VTIMEZONE
END:VCALENDAR