BEGIN:VCALENDAR
VERSION:2.0
PRODID:-//wp-events-plugin.com//7.2.3.1//EN
TZID:Europe/Madrid
X-WR-TIMEZONE:Europe/Madrid
BEGIN:VEVENT
UID:13@amelonera.org
DTSTART;TZID=Europe/Madrid:20231205T170000
DTEND;TZID=Europe/Madrid:20231207T200000
DTSTAMP:20231206T083922Z
URL:https://amelonera.org/ara/events/recogida-de-ropa/
SUMMARY:Recogida de ropa
DESCRIPTION:Recogida de ropa de abrigo de hombre\, móviles y material esco
 lar para las personas refugiadas\, que están actualmente en Pirenarium.\n
 La recogida la organiza Plataforma ciudadana pro-refugiados Alto Aragón y
  será en el CSA A Melonera de Sabiñánigo los días 5\, 6 y 7 de 17 a 20
 h
ATTACH;FMTTYPE=image/jpeg:https://amelonera.org/wp-content/uploads/2023/12
 /WhatsApp-Image-2023-12-05-at-13.11.23.jpeg
CATEGORIES:Evento solidario
LOCATION:CSA A Melonera\, Plaza Santa Ana\, 10\, Sabiñánigo\, Huesca\, إ
 سبانيا
X-APPLE-STRUCTURED-LOCATION;VALUE=URI;X-ADDRESS=Plaza Santa Ana\, 10\, Sabi
 ñánigo\, Huesca\, إسبانيا;X-APPLE-RADIUS=100;X-TITLE=CSA A Melone
 ra:geo:0,0
END:VEVENT
BEGIN:VTIMEZONE
TZID:Europe/Madrid
X-LIC-LOCATION:Europe/Madrid
BEGIN:STANDARD
DTSTART:20231029T020000
TZOFFSETFROM:+0200
TZOFFSETTO:+0100
TZNAME:CET
END:STANDARD
END:VTIMEZONE
END:VCALENDAR