BEGIN:VCALENDAR
VERSION:2.0
PRODID:-//wp-events-plugin.com//7.2.3.1//EN
TZID:Europe/Madrid
X-WR-TIMEZONE:Europe/Madrid
BEGIN:VEVENT
UID:10@amelonera.org
DTSTART;TZID=Europe/Madrid:20231201T170000
DTEND;TZID=Europe/Madrid:20231201T220000
DTSTAMP:20231124T112953Z
URL:https://amelonera.org/ara/events/tardeo-contracultural/
SUMMARY:Tardeo Contrakultural
DESCRIPTION:Después de una semanita intensa ❤️‍🔥 llena de activid
 ades diversas para dar a conocer el CSA 🍈\n\nQueremos que el Viernes se
 a un día festivo\, en el que celebrar este momentazo todes juntes ‼️ 
 Eso sí\, no podemos dejar de ser nosotres y Hacerlo Político 💥\n\nA l
 as 17h habrá debate sobre "el lenguaje del poder a través de la música"
  a cargo de @djlunaroja en el que conversaremos y nos preguntaremos sobre 
 los mensajes que hay implícitos en la música que escuchamos 💭🎶\n\n
 A las 19h habrá Desfile Disidente ❤️‍🔥🪩🌈\nY que es esto? O
 s estaréis preguntando. Pues dadle a la siguiente imagen ▶️ que os lo
  contamos.\n\nY a las 21h habrá cena popular\, hecha con muchísimo amor 
 porque nos lo habremos ganado 🥙\nPodéis apuntaros para la cena en el s
 iguiente formulario (https://cryptpad.fr/form/#/2/form/view/+5i3jsw3tMiIin
 h63vSCCsJZylTSHNRLRPJfyFiqin0/) o a lo largo de la semana en el espacio f
 ísico.\n\nOs esperamos con muchas ganas de conocernos\, pensarnos\, baila
 rnos y celebrarnos 🥳🎉\n\n&nbsp\;\n\n 
ATTACH;FMTTYPE=image/jpeg:https://amelonera.org/wp-content/uploads/2023/11
 /photo_2023-11-24_12-07-44.jpg
CATEGORIES:Encuentro
LOCATION:CSA A Melonera\, Plaza Santa Ana\, 10\, Sabiñánigo\, Huesca\, إ
 سبانيا
X-APPLE-STRUCTURED-LOCATION;VALUE=URI;X-ADDRESS=Plaza Santa Ana\, 10\, Sabi
 ñánigo\, Huesca\, إسبانيا;X-APPLE-RADIUS=100;X-TITLE=CSA A Melone
 ra:geo:0,0
END:VEVENT
BEGIN:VTIMEZONE
TZID:Europe/Madrid
X-LIC-LOCATION:Europe/Madrid
BEGIN:STANDARD
DTSTART:20231029T020000
TZOFFSETFROM:+0200
TZOFFSETTO:+0100
TZNAME:CET
END:STANDARD
END:VTIMEZONE
END:VCALENDAR