BEGIN:VCALENDAR
VERSION:2.0
PRODID:-//wp-events-plugin.com//7.2.3.1//EN
TZID:Europe/Madrid
X-WR-TIMEZONE:Europe/Madrid
BEGIN:VEVENT
UID:9@amelonera.org
DTSTART;TZID=Europe/Madrid:20231130T170000
DTEND;TZID=Europe/Madrid:20231130T200000
DTSTAMP:20231123T085809Z
URL:https://amelonera.org/ara/events/verde-que-te-quiero-verde-taller-de-c
 hutney/
SUMMARY:Verde que te quiero verde. Taller de chutney.
DESCRIPTION:Que hacéis con esos tomates que salen en septiembre/octubre y 
 ya no maduran? Venid a compartir vuestros saberes populares.\n\nNosotres p
 roponemos una conserva de origen Indio\, el chutney. Entre todes preparare
 mos una tanda y lo probaremos.\n\nQuien pueda traer\, necesitaremos tablas
  y cuchillos para cortar. Traed vuestros tomates verdes y bote desinfectad
 o si queréis llevaros uno a casa.\n\nPuedes apuntarte en el siguiente for
 mulario:\n\nhttps://cryptpad.fr/form/#/2/form/view/jeV9ltubCq5ud3PceuZ2KQ7
 IrYoEiLoaG+wGTjthADs/
ATTACH;FMTTYPE=image/jpeg:https://amelonera.org/wp-content/uploads/2023/11
 /IMG_20231123_095613_953.jpg
CATEGORIES:Taller
END:VEVENT
BEGIN:VTIMEZONE
TZID:Europe/Madrid
X-LIC-LOCATION:Europe/Madrid
BEGIN:STANDARD
DTSTART:20231029T020000
TZOFFSETFROM:+0200
TZOFFSETTO:+0100
TZNAME:CET
END:STANDARD
END:VTIMEZONE
END:VCALENDAR