BEGIN:VCALENDAR
VERSION:2.0
PRODID:-//wp-events-plugin.com//7.2.3.1//EN
TZID:Europe/Madrid
X-WR-TIMEZONE:Europe/Madrid
BEGIN:VEVENT
UID:7@amelonera.org
DTSTART;TZID=Europe/Madrid:20231127T170000
DTEND;TZID=Europe/Madrid:20231127T200000
DTSTAMP:20231122T132124Z
URL:https://amelonera.org/events/chuntada-para-dibujar-y-hacer-cuqui-el-es
 pacio/
SUMMARY:Chuntada para dibujar y engalanar el espacio.
DESCRIPTION:Esta propuesta está pensada para personas adultas\, que sienta
 n interés por juntarse sin más pretensión que crear en colectivo. Es un
 a introducción a una de las actividades semanales que tendrán lugar en A
  Melonera: "Juntarse para dibujar".\n\nPara este día\, proponemos crear a
  partir de ideas relacionadas con la autogestión y el quehacer colectivo\
 , ya que son dos de los melones clave de A Melonera. Habrá diversidad de 
 materiales con los que podréis jugar sin miedo en vuestras creaciones.\n\
 nHabrá ideas voladoras\, recortes\, colores y formas con los que experime
 ntar. Además\, también están por hacer una serie de carteles que recoja
 n frases clave de A Melonera\, por si hay alguna que se anime a ello.\n\nN
 o es necesario tener experiencia previa\, sólo ganas de pasar un rato de 
 crear en compañía.\n\nPara facilitar la organización agradecemos si pod
 éis confirmar asistencia en csaamelonera@riseup.com\n\n
ATTACH;FMTTYPE=image/jpeg:https://amelonera.org/wp-content/uploads/2023/11
 /IMG_20231122_142005_704.jpg
CATEGORIES:Encuentro,Puertas abiertas
END:VEVENT
BEGIN:VTIMEZONE
TZID:Europe/Madrid
X-LIC-LOCATION:Europe/Madrid
BEGIN:STANDARD
DTSTART:20231029T020000
TZOFFSETFROM:+0200
TZOFFSETTO:+0100
TZNAME:CET
END:STANDARD
END:VTIMEZONE
END:VCALENDAR