BEGIN:VCALENDAR
VERSION:2.0
PRODID:-//wp-events-plugin.com//7.2.3.1//EN
TZID:Europe/Madrid
X-WR-TIMEZONE:Europe/Madrid
BEGIN:VEVENT
UID:12@amelonera.org
DTSTART;TZID=Europe/Madrid:20231202T180000
DTEND;TZID=Europe/Madrid:20231202T210000
DTSTAMP:20231129T224028Z
URL:https://amelonera.org/events/documental-aqueras-montanas/
SUMMARY:Documental Aqueras Montañas
DESCRIPTION:Ya llega el invierno y\, como cada año\, la temporada de esqu
 í va a comenzar. ¿Qué mejor momento para juntarnos a hablar sobre el tu
 rismo en los valles? Tenemos este planazo para el próximo sábado a las 1
 8h con merienda incluida en A Melonera.
ATTACH;FMTTYPE=image/jpeg:https://amelonera.org/wp-content/uploads/2023/11
 /WhatsApp-Image-2023-11-29-at-23.14.54.jpeg
CATEGORIES:Proyección
LOCATION:CSA A Melonera\, Plaza Santa Ana\, 10\, Sabiñánigo\, Huesca\, Es
 paña
X-APPLE-STRUCTURED-LOCATION;VALUE=URI;X-ADDRESS=Plaza Santa Ana\, 10\, Sabi
 ñánigo\, Huesca\, España;X-APPLE-RADIUS=100;X-TITLE=CSA A Melonera:geo:
 0,0
END:VEVENT
BEGIN:VTIMEZONE
TZID:Europe/Madrid
X-LIC-LOCATION:Europe/Madrid
BEGIN:STANDARD
DTSTART:20231029T020000
TZOFFSETFROM:+0200
TZOFFSETTO:+0100
TZNAME:CET
END:STANDARD
END:VTIMEZONE
END:VCALENDAR