BEGIN:VCALENDAR
VERSION:2.0
PRODID:-//wp-events-plugin.com//7.2.3.1//EN
TZID:Europe/Madrid
X-WR-TIMEZONE:Europe/Madrid
BEGIN:VEVENT
UID:133@amelonera.org
DTSTART;TZID=Europe/Madrid:20240127T160000
DTEND;TZID=Europe/Madrid:20240127T160000
DTSTAMP:20240115T131137Z
URL:https://amelonera.org/events/documental-donde-quisimos-vivir-escuela-c
 aneto/
SUMMARY:Documental "Donde quisimos vivir" + Escuela Caneto
DESCRIPTION:Pase del documental "Donde quisimos vivir" y posterior mesa red
 onda con las familias de la escuela de Caneto el sábado 27 de enero a las
  16h!\n\nEl documental trata la historia de 4 pueblos (Mediano\, Clamosa\,
  Javierre de Ara y Finestres)\, donde sus casas fueron abandonadas\, desal
 ojadas o incluso inundadas a causa de la construcción de pantanos. Conoce
 mos las historias personales de las gentes de estos pueblos y cómo debier
 on rehacer sus vidas lejos de su hogar y soportar que el paso del tiempo c
 onvirtiera sus pueblos en lugares olvidados.
ATTACH;FMTTYPE=image/jpeg:https://amelonera.org/wp-content/uploads/2024/01
 /Donde-quisimos-vivir.jpg
CATEGORIES:Proyección
LOCATION:CSA A Melonera\, Plaza Santa Ana\, 10\, Sabiñánigo\, Huesca\, Es
 paña
X-APPLE-STRUCTURED-LOCATION;VALUE=URI;X-ADDRESS=Plaza Santa Ana\, 10\, Sabi
 ñánigo\, Huesca\, España;X-APPLE-RADIUS=100;X-TITLE=CSA A Melonera:geo:
 0,0
END:VEVENT
BEGIN:VTIMEZONE
TZID:Europe/Madrid
X-LIC-LOCATION:Europe/Madrid
BEGIN:STANDARD
DTSTART:20231029T020000
TZOFFSETFROM:+0200
TZOFFSETTO:+0100
TZNAME:CET
END:STANDARD
END:VTIMEZONE
END:VCALENDAR