BEGIN:VCALENDAR
VERSION:2.0
PRODID:-//wp-events-plugin.com//7.2.3.1//EN
TZID:Europe/Madrid
X-WR-TIMEZONE:Europe/Madrid
BEGIN:VEVENT
UID:6@amelonera.org
DTSTART;TZID=Europe/Madrid:20231129T180000
DTEND;TZID=Europe/Madrid:20231129T210000
DTSTAMP:20231109T175737Z
URL:https://amelonera.org/events/encuentro-anticapacitista/
SUMMARY:Encuentro anticapacitista
DESCRIPTION:🦡CSA A Melonera🦡\n\nReserva la fecha!! miércoles 29 de N
 oviembre alas 18h encuentro anticapacitista. Itxi Guerra 😍 nos hablará
  en primera persona sobre discapacidad y capacitismo.\n\n🙌Tendremos int
 érprete a lengua de signos\, tapas veganas\, sorteos y algún juego bieee
 n divertido para acabar la jornada.❤️‍🔥\n\n🦽Espacio accesible 
 para silla de ruedas\n\n📍Plaza Santa Ana\, 10 Sabiñánigo\n\n🗯Tené
 is más info en www.amelonera.org e instagram.com/csa.amelonera\n\n
ATTACH;FMTTYPE=image/jpeg:https://amelonera.org/wp-content/uploads/2023/11
 /photo_2023-11-08_19-20-39.jpg
CATEGORIES:Charla,Encuentro
END:VEVENT
BEGIN:VTIMEZONE
TZID:Europe/Madrid
X-LIC-LOCATION:Europe/Madrid
BEGIN:STANDARD
DTSTART:20231029T020000
TZOFFSETFROM:+0200
TZOFFSETTO:+0100
TZNAME:CET
END:STANDARD
END:VTIMEZONE
END:VCALENDAR