BEGIN:VCALENDAR
VERSION:2.0
PRODID:-//wp-events-plugin.com//7.2.3.1//EN
TZID:Europe/Madrid
X-WR-TIMEZONE:Europe/Madrid
BEGIN:VEVENT
UID:134@amelonera.org
DTSTART;TZID=Europe/Madrid:20240120T183000
DTEND;TZID=Europe/Madrid:20240120T183000
DTSTAMP:20240118T191108Z
URL:https://amelonera.org/events/femos-viello-aragon/
SUMMARY:Femos Viello Aragón
DESCRIPTION:Esta primavera vamos a recorrer los pueblos de la comarca 🏘
 ️🏔️\n\nQueremos identificar las problemáticas locales y comunes de
  nuestro territorio\, y para ello queremos contar contigo para elaborar un
 a herramienta colectiva para vivir en un Viello Aragón con un futuro dign
 o\, en el cuál tengamos un empleo de calidad\, un acceso universal a los 
 servicios y una vivienda accesible.\n\nPor ello\, te invitamos a una forma
 ción el próximo día 20 de enero a las 18:30 en A Melonera de Samianigo.
  En esta formación explicaremos la metodología de encuentros que estamos
  preparando y elaboraremos entre todas una estrategia para realizar uno de
  estos encuentros en tu pueblo o redolada. Nos gustaría que te implicases
 . De momento ya se están fraguando varios. ¡Animaos!.\n\nOs adjuntamos t
 ambién el borrador de propuesta metodológica.\n\nCualquier duda puedes e
 scribirnos por WhatsApp o por correo electrónico a viello.aragon1@gmail.c
 om\n\nFemos Viello Aragón 🍃🔥
ATTACH;FMTTYPE=image/jpeg:https://amelonera.org/wp-content/uploads/2024/01
 /WhatsApp-Image-2024-01-18-at-19.37.36.jpeg
CATEGORIES:Encuentro
LOCATION:CSA A Melonera\, Plaza Santa Ana\, 10\, Sabiñánigo\, Huesca\, Es
 paña
X-APPLE-STRUCTURED-LOCATION;VALUE=URI;X-ADDRESS=Plaza Santa Ana\, 10\, Sabi
 ñánigo\, Huesca\, España;X-APPLE-RADIUS=100;X-TITLE=CSA A Melonera:geo:
 0,0
END:VEVENT
BEGIN:VTIMEZONE
TZID:Europe/Madrid
X-LIC-LOCATION:Europe/Madrid
BEGIN:STANDARD
DTSTART:20231029T020000
TZOFFSETFROM:+0200
TZOFFSETTO:+0100
TZNAME:CET
END:STANDARD
END:VTIMEZONE
END:VCALENDAR