BEGIN:VCALENDAR
VERSION:2.0
PRODID:-//wp-events-plugin.com//7.2.3.1//EN
TZID:Europe/Madrid
X-WR-TIMEZONE:Europe/Madrid
BEGIN:VEVENT
UID:331@amelonera.org
DTSTART;TZID=Europe/Madrid:20260306T180000
DTEND;TZID=Europe/Madrid:20260306T210000
DTSTAMP:20260305T162923Z
URL:https://amelonera.org/events/sieso-de-jaca-pueblo-vivo/
SUMMARY:Sieso de Jaca\, pueblo vivo
DESCRIPTION:El colectivo del pueblo okupado de Sieso de Ja!ca lleva mas de 
 20 años apostando por la reconstrucción de forma comunitaria\, colectivi
 zando las tierras\, reconstruyendo las ruinas y haciendo una gestión sost
 enible del entorno que les rodea de forma autogestionaria. Presentamos est
 e proyecto de vida en A Melonera donde os invitamos a debatir sobre comuni
 dad y repoblación mientras degustamos unas ricas tapas e inauguramos una 
 exposición de fotos en retrospectiva amenizado por la poesía de Santiago
  Abadía\, miembro del proyecto.\nPasen y compartan.\n\n\n\n[ARA]\n\nLo co
 lectivo d'o lugar okupau de Sieso de Chaca porta mas de 20 anyadas apostan
 do por a reconstrucción de traza comunitaria\, colectivizando as tierras\
 , reconstruyindo a enruena y fendo una chestión sustenible de l'arredol q
 ue les rodeya de traza autochestionaria. Presentamos iste prochecto de vid
 a en A Melonera aon que tos convidamos a debatir sobre comunidat y repobla
 ción mientres tastamos unas saborosas tapas y inauguramos una exposición
  de fotos en retrospectiva amenizau por a poesía de Santiago Abadía\, mi
 embro d'o prochecto.\nBi pasen y espartan.
ATTACH;FMTTYPE=image/jpeg:https://amelonera.org/wp-content/uploads/2026/03
 /photo_2026-03-05_17-25-55.jpg
CATEGORIES:Actividad puntual,Exposición
LOCATION:CSA A Melonera\, Plaza Santa Ana\, 10\, Sabiñánigo\, Huesca\, Es
 paña
X-APPLE-STRUCTURED-LOCATION;VALUE=URI;X-ADDRESS=Plaza Santa Ana\, 10\, Sabi
 ñánigo\, Huesca\, España;X-APPLE-RADIUS=100;X-TITLE=CSA A Melonera:geo:
 0,0
END:VEVENT
BEGIN:VTIMEZONE
TZID:Europe/Madrid
X-LIC-LOCATION:Europe/Madrid
BEGIN:STANDARD
DTSTART:20251026T020000
TZOFFSETFROM:+0200
TZOFFSETTO:+0100
TZNAME:CET
END:STANDARD
END:VTIMEZONE
END:VCALENDAR