BEGIN:VCALENDAR
VERSION:2.0
PRODID:-//wp-events-plugin.com//7.2.3.1//EN
TZID:Europe/Madrid
X-WR-TIMEZONE:Europe/Madrid
BEGIN:VEVENT
UID:270@amelonera.org
DTSTART;TZID=Europe/Madrid:20240123T180000
DTEND;TZID=Europe/Madrid:20240123T200000
DTSTAMP:20241217T072748Z
URL:https://amelonera.org/events/taller-salud-menstrual/
SUMMARY:Taller Salud Menstrual
DESCRIPTION:¿Conocemos realmente nuestro ciclo menstrual?En este taller te
 ndrás la posibilidad de conocerlo. Obtener herramientas para gestionar tu
  propia salud menstrual más allá de los anticonceptivos. Porque recupera
 r la soberanía de nuestros propios procesos como cuerpos menstruantes es 
 esencial para una vida sin violencias menstruales.En CSA A melonera. Sabi
 ñánigo. Jueves 23 de enero 18 horas Inscríbete@royamenstrual royasaludm
 enstrual@gmail.comTaller con plazas limitadas. No dudes en escribir para c
 onsultar cualquier duda.[ARAGONÉS]Conoixemos realment lo nuestro ciclo me
 nstrual?En iste taller habrás la posibilidat de conoixer-lo. Obtener ferr
 amientas pa chestionar la tuya propia salut menstrual dellá d’os antico
 nceptivos. Perque recuperar la sobiranía d’os nuestros propios procesos
  como cuerpos menstruants ye esencial pa una vida sinde violencias menstru
 als.En CSA A Melonera. Samianigo. chueus 23 de chinero. 18 horas.Taller co
 n plazas contadas
ATTACH;FMTTYPE=image/jpeg:https://amelonera.org/wp-content/uploads/2024/12
 /photo_2024-12-17_08-27-06-2.jpg
CATEGORIES:Taller
LOCATION:CSA A Melonera\, Plaza Santa Ana\, 10\, Sabiñánigo\, Huesca\, Es
 paña
X-APPLE-STRUCTURED-LOCATION;VALUE=URI;X-ADDRESS=Plaza Santa Ana\, 10\, Sabi
 ñánigo\, Huesca\, España;X-APPLE-RADIUS=100;X-TITLE=CSA A Melonera:geo:
 0,0
END:VEVENT
BEGIN:VTIMEZONE
TZID:Europe/Madrid
X-LIC-LOCATION:Europe/Madrid
BEGIN:STANDARD
DTSTART:20231029T020000
TZOFFSETFROM:+0200
TZOFFSETTO:+0100
TZNAME:CET
END:STANDARD
END:VTIMEZONE
END:VCALENDAR