BEGIN:VCALENDAR
VERSION:2.0
PRODID:-//wp-events-plugin.com//7.2.3.1//EN
TZID:Europe/Madrid
X-WR-TIMEZONE:Europe/Madrid
BEGIN:VEVENT
UID:306@amelonera.org
DTSTART;TZID=Europe/Madrid:20251205T183000
DTEND;TZID=Europe/Madrid:20251205T220000
DTSTAMP:20251120T181731Z
URL:https://amelonera.org/events/vida-y-muerte-en-un-almacen-proyeccion-de
 bate-y-kafeta/
SUMMARY:Vida y muerte en un almacén. Proyección\, debate y kafeta
DESCRIPTION:\n\n🎥🎬\nEl próximo viernes 5 de diciembre\, desde el CSA
  A Melonera\, os invitamos a una tarde de reflexión acerca de uno de los 
 aspectos que más están moldeando nuestro consumo y nuestra realidad. Las
  compras por internet y los grandes conglomerados como Amazon.🛍🛍\n\n
 A través de la película "Vida y muerte en un almacén" que narra la real
 idad que sufren las personas que trabajan en los centros de distribución 
 de estos grandes almacenes\, queremos reflexionar acerca de lo invisible d
 e nuestros actos. Y pensar en qué modelos queremos\, sobre todo ahora que
  se acercan momentos de consumo y compras.\n\nTras la proyección\, tendre
 mos rato para charlar y compartir\, kafeta con bebidas y tapas veganas y p
 odrás aprovechar para visitar la librería crítica y la tienda de ropa g
 ratis.\n\nApúntatelo en la agenda\, y ven a compartir en el CSA A Meloner
 a\, Plaza Santa Ana nº10. Local accesible en silla de ruedas.\n\n[ara]\n\
 n🎥🎬\nLo venient viernes 5 d'aviento\, dende lo CSA A Melonera\, tos 
 convidamos a una tardada de reflexión arredol d'un d'os aspectos que mas 
 son molliando lo nuestro consumo y la nuestra realidat: las crompas por In
 ternet y es grans conglomeraus como Amazon.🛍🛍\n\nA traviés d'a peli
 cula "Vida y muerte en un almacén" que reconta la realidat que sofreixen 
 las personas que treballan en os centros de distribución d'istos grans al
 magacens\, queremos reflexionar sobre l'invisible d'os nuestros actos. Y c
 apitar sobre qué modelos queremos\, sobretot agora que se nos acercan mom
 entos de consumo y crompas.\n\nDimpués d'a prochección\, tendremos rato 
 pa charrar y espartir\, kafeta con bebidas y tapas veganas y podrás aprov
 eitar pa vesitar la librería critica y la botiga de ropa gratis.\n\nApunt
 a-te-lo en l'achenda y viene a espartir en o CSA A Melonera\, Plaza Santa 
 Ana nº10. Local accesible en carret de ruedas.\n\n&nbsp\;
ATTACH;FMTTYPE=image/jpeg:https://amelonera.org/wp-content/uploads/2025/11
 /photo_2025-11-20_19-15-19.jpg
CATEGORIES:Proyección
END:VEVENT
BEGIN:VTIMEZONE
TZID:Europe/Madrid
X-LIC-LOCATION:Europe/Madrid
BEGIN:STANDARD
DTSTART:20251026T020000
TZOFFSETFROM:+0200
TZOFFSETTO:+0100
TZNAME:CET
END:STANDARD
END:VTIMEZONE
END:VCALENDAR